BEGIN:VCALENDAR
VERSION:2.0
PRODID:-//Roanoke Valley Bird Club - ECPv6.15.18//NONSGML v1.0//EN
CALSCALE:GREGORIAN
METHOD:PUBLISH
X-WR-CALNAME:Roanoke Valley Bird Club
X-ORIGINAL-URL:https://roanokevalleybirdclub.com
X-WR-CALDESC:Events for Roanoke Valley Bird Club
REFRESH-INTERVAL;VALUE=DURATION:PT1H
X-Robots-Tag:noindex
X-PUBLISHED-TTL:PT1H
BEGIN:VTIMEZONE
TZID:America/New_York
BEGIN:DAYLIGHT
TZOFFSETFROM:-0500
TZOFFSETTO:-0400
TZNAME:EDT
DTSTART:20240310T070000
END:DAYLIGHT
BEGIN:STANDARD
TZOFFSETFROM:-0400
TZOFFSETTO:-0500
TZNAME:EST
DTSTART:20241103T060000
END:STANDARD
BEGIN:DAYLIGHT
TZOFFSETFROM:-0500
TZOFFSETTO:-0400
TZNAME:EDT
DTSTART:20250309T070000
END:DAYLIGHT
BEGIN:STANDARD
TZOFFSETFROM:-0400
TZOFFSETTO:-0500
TZNAME:EST
DTSTART:20251102T060000
END:STANDARD
BEGIN:DAYLIGHT
TZOFFSETFROM:-0500
TZOFFSETTO:-0400
TZNAME:EDT
DTSTART:20260308T070000
END:DAYLIGHT
BEGIN:STANDARD
TZOFFSETFROM:-0400
TZOFFSETTO:-0500
TZNAME:EST
DTSTART:20261101T060000
END:STANDARD
END:VTIMEZONE
BEGIN:VEVENT
DTSTART;TZID=America/New_York:20250108T090000
DTEND;TZID=America/New_York:20250108T100000
DTSTAMP:20260421T231334
CREATED:20241222T033136Z
LAST-MODIFIED:20241222T034621Z
UID:222-1736326800-1736330400@roanokevalleybirdclub.com
SUMMARY:Second Wednesday Bird Hike
DESCRIPTION:Join RVBC and David Frye for a bird walk on the Cherry Blossom Trail. \nWe host this trip every other month on Wednesdays and can see the populations of birds changing with the passing of the seasons.
URL:https://roanokevalleybirdclub.com/event/second-wednesday-bird-hike/
LOCATION:The Cherry Blossom Trail\, 555 International Pkwy\, Daleville\, VA\, 24083\, United States
CATEGORIES:Field Trip
END:VEVENT
BEGIN:VEVENT
DTSTART;TZID=America/New_York:20250111T090000
DTEND;TZID=America/New_York:20250111T100000
DTSTAMP:20260421T231334
CREATED:20241222T035656Z
LAST-MODIFIED:20241222T035820Z
UID:234-1736586000-1736589600@roanokevalleybirdclub.com
SUMMARY:Catawba Greenway and Whispering Pines
DESCRIPTION:Join RVBC and leaders Kirk Gardner and Kent Davis at the Catawba Greenway Trailhead which is located at 5075 Catawba Creek Road.
URL:https://roanokevalleybirdclub.com/event/catawba-greenway-and-whispering-pines/
LOCATION:Catawba Greenway Trailhead\, 5075 Catawba Creek Rd\, Catawba\, VA\, 24175\, United States
CATEGORIES:Field Trip
END:VEVENT
BEGIN:VEVENT
DTSTART;VALUE=DATE:20250125
DTEND;VALUE=DATE:20250126
DTSTAMP:20260421T231334
CREATED:20250103T015437Z
LAST-MODIFIED:20250103T015437Z
UID:250-1737763200-1737849599@roanokevalleybirdclub.com
SUMMARY:Wild Card Trip - TBA
DESCRIPTION:For January’s wild card trip\, leader Barry Whitt has plans that are totally dependent upon climactic conditions. However\, stay\ntuned! If he sees favorable weather\, he’ll send out an announcement. Exact time and location TBA.
URL:https://roanokevalleybirdclub.com/event/wild-card-trip-tba/
LOCATION:VA
CATEGORIES:Field Trip
END:VEVENT
END:VCALENDAR